BEGIN:VCALENDAR
VERSION:2.0
PRODID:-//The Willows Golf Lounge - ECPv6.15.18//NONSGML v1.0//EN
CALSCALE:GREGORIAN
METHOD:PUBLISH
X-ORIGINAL-URL:https://thewillowsgolflounge.com
X-WR-CALDESC:Events for The Willows Golf Lounge
REFRESH-INTERVAL;VALUE=DURATION:PT1H
X-Robots-Tag:noindex
X-PUBLISHED-TTL:PT1H
BEGIN:VTIMEZONE
TZID:America/New_York
BEGIN:DAYLIGHT
TZOFFSETFROM:-0500
TZOFFSETTO:-0400
TZNAME:EDT
DTSTART:20250309T070000
END:DAYLIGHT
BEGIN:STANDARD
TZOFFSETFROM:-0400
TZOFFSETTO:-0500
TZNAME:EST
DTSTART:20251102T060000
END:STANDARD
BEGIN:DAYLIGHT
TZOFFSETFROM:-0500
TZOFFSETTO:-0400
TZNAME:EDT
DTSTART:20260308T070000
END:DAYLIGHT
BEGIN:STANDARD
TZOFFSETFROM:-0400
TZOFFSETTO:-0500
TZNAME:EST
DTSTART:20261101T060000
END:STANDARD
BEGIN:DAYLIGHT
TZOFFSETFROM:-0500
TZOFFSETTO:-0400
TZNAME:EDT
DTSTART:20270314T070000
END:DAYLIGHT
BEGIN:STANDARD
TZOFFSETFROM:-0400
TZOFFSETTO:-0500
TZNAME:EST
DTSTART:20271107T060000
END:STANDARD
END:VTIMEZONE
BEGIN:VEVENT
DTSTART;TZID=America/New_York:20260803T190000
DTEND;TZID=America/New_York:20260803T220000
DTSTAMP:20260424T215624
CREATED:20260321T011956Z
LAST-MODIFIED:20260321T014054Z
UID:10000276-1785783600-1785794400@thewillowsgolflounge.com
SUMMARY:Industry Night at The Willows
DESCRIPTION:Join us from 7:00–10:30pm every Monday night for Industry Night—our way of giving back to those who keep things running. If you work in The Grove or the hospitality industry\, enjoy 20% off your round and unwind with a night of golf\, drinks\, and great company.
URL:https://thewillowsgolflounge.com/event/industry-night-at-the-willows/2026-08-03/
LOCATION:The Willows Golf Lounge\, 20 Liberty Blvd Suite 140\, Malvern\, PA\, 19355\, United States
CATEGORIES:Public Events,Weekly Events
ATTACH;FMTTYPE=image/webp:https://thewillowsgolflounge.com/wp-content/uploads/2026/03/IndustryNight.webp
END:VEVENT
BEGIN:VEVENT
DTSTART;TZID=America/New_York:20260804T180000
DTEND;TZID=America/New_York:20260804T200000
DTSTAMP:20260424T215624
CREATED:20260321T012218Z
LAST-MODIFIED:20260321T025014Z
UID:10000537-1785866400-1785873600@thewillowsgolflounge.com
SUMMARY:Ladies Night at The Willows
DESCRIPTION:Join us every Tuesday from 6–8 PM for a relaxed\, welcoming night of golf\, wine\, and great company. Whether you’re brand new or looking to refine your game\, we have clubs available and courses suited for all skill levels. Sip and unwind with selections from Penns Woods Winery while you play—no pressure\, just fun.
URL:https://thewillowsgolflounge.com/event/ladies-night-at-the-willows/2026-08-04/
LOCATION:The Willows Golf Lounge\, 20 Liberty Blvd Suite 140\, Malvern\, PA\, 19355\, United States
CATEGORIES:Public Events,Weekly Events
ATTACH;FMTTYPE=image/webp:https://thewillowsgolflounge.com/wp-content/uploads/2026/03/LadiesNight.webp
END:VEVENT
BEGIN:VEVENT
DTSTART;TZID=America/New_York:20260810T190000
DTEND;TZID=America/New_York:20260810T220000
DTSTAMP:20260424T215624
CREATED:20260321T011956Z
LAST-MODIFIED:20260321T014054Z
UID:10000277-1786388400-1786399200@thewillowsgolflounge.com
SUMMARY:Industry Night at The Willows
DESCRIPTION:Join us from 7:00–10:30pm every Monday night for Industry Night—our way of giving back to those who keep things running. If you work in The Grove or the hospitality industry\, enjoy 20% off your round and unwind with a night of golf\, drinks\, and great company.
URL:https://thewillowsgolflounge.com/event/industry-night-at-the-willows/2026-08-10/
LOCATION:The Willows Golf Lounge\, 20 Liberty Blvd Suite 140\, Malvern\, PA\, 19355\, United States
CATEGORIES:Public Events,Weekly Events
ATTACH;FMTTYPE=image/webp:https://thewillowsgolflounge.com/wp-content/uploads/2026/03/IndustryNight.webp
END:VEVENT
BEGIN:VEVENT
DTSTART;TZID=America/New_York:20260811T180000
DTEND;TZID=America/New_York:20260811T200000
DTSTAMP:20260424T215624
CREATED:20260321T012218Z
LAST-MODIFIED:20260321T025014Z
UID:10000538-1786471200-1786478400@thewillowsgolflounge.com
SUMMARY:Ladies Night at The Willows
DESCRIPTION:Join us every Tuesday from 6–8 PM for a relaxed\, welcoming night of golf\, wine\, and great company. Whether you’re brand new or looking to refine your game\, we have clubs available and courses suited for all skill levels. Sip and unwind with selections from Penns Woods Winery while you play—no pressure\, just fun.
URL:https://thewillowsgolflounge.com/event/ladies-night-at-the-willows/2026-08-11/
LOCATION:The Willows Golf Lounge\, 20 Liberty Blvd Suite 140\, Malvern\, PA\, 19355\, United States
CATEGORIES:Public Events,Weekly Events
ATTACH;FMTTYPE=image/webp:https://thewillowsgolflounge.com/wp-content/uploads/2026/03/LadiesNight.webp
END:VEVENT
BEGIN:VEVENT
DTSTART;TZID=America/New_York:20260817T190000
DTEND;TZID=America/New_York:20260817T220000
DTSTAMP:20260424T215624
CREATED:20260321T011956Z
LAST-MODIFIED:20260321T014054Z
UID:10000278-1786993200-1787004000@thewillowsgolflounge.com
SUMMARY:Industry Night at The Willows
DESCRIPTION:Join us from 7:00–10:30pm every Monday night for Industry Night—our way of giving back to those who keep things running. If you work in The Grove or the hospitality industry\, enjoy 20% off your round and unwind with a night of golf\, drinks\, and great company.
URL:https://thewillowsgolflounge.com/event/industry-night-at-the-willows/2026-08-17/
LOCATION:The Willows Golf Lounge\, 20 Liberty Blvd Suite 140\, Malvern\, PA\, 19355\, United States
CATEGORIES:Public Events,Weekly Events
ATTACH;FMTTYPE=image/webp:https://thewillowsgolflounge.com/wp-content/uploads/2026/03/IndustryNight.webp
END:VEVENT
BEGIN:VEVENT
DTSTART;TZID=America/New_York:20260818T180000
DTEND;TZID=America/New_York:20260818T200000
DTSTAMP:20260424T215624
CREATED:20260321T012218Z
LAST-MODIFIED:20260321T025014Z
UID:10000539-1787076000-1787083200@thewillowsgolflounge.com
SUMMARY:Ladies Night at The Willows
DESCRIPTION:Join us every Tuesday from 6–8 PM for a relaxed\, welcoming night of golf\, wine\, and great company. Whether you’re brand new or looking to refine your game\, we have clubs available and courses suited for all skill levels. Sip and unwind with selections from Penns Woods Winery while you play—no pressure\, just fun.
URL:https://thewillowsgolflounge.com/event/ladies-night-at-the-willows/2026-08-18/
LOCATION:The Willows Golf Lounge\, 20 Liberty Blvd Suite 140\, Malvern\, PA\, 19355\, United States
CATEGORIES:Public Events,Weekly Events
ATTACH;FMTTYPE=image/webp:https://thewillowsgolflounge.com/wp-content/uploads/2026/03/LadiesNight.webp
END:VEVENT
BEGIN:VEVENT
DTSTART;TZID=America/New_York:20260824T190000
DTEND;TZID=America/New_York:20260824T220000
DTSTAMP:20260424T215624
CREATED:20260321T011956Z
LAST-MODIFIED:20260321T014054Z
UID:10000279-1787598000-1787608800@thewillowsgolflounge.com
SUMMARY:Industry Night at The Willows
DESCRIPTION:Join us from 7:00–10:30pm every Monday night for Industry Night—our way of giving back to those who keep things running. If you work in The Grove or the hospitality industry\, enjoy 20% off your round and unwind with a night of golf\, drinks\, and great company.
URL:https://thewillowsgolflounge.com/event/industry-night-at-the-willows/2026-08-24/
LOCATION:The Willows Golf Lounge\, 20 Liberty Blvd Suite 140\, Malvern\, PA\, 19355\, United States
CATEGORIES:Public Events,Weekly Events
ATTACH;FMTTYPE=image/webp:https://thewillowsgolflounge.com/wp-content/uploads/2026/03/IndustryNight.webp
END:VEVENT
BEGIN:VEVENT
DTSTART;TZID=America/New_York:20260825T180000
DTEND;TZID=America/New_York:20260825T200000
DTSTAMP:20260424T215624
CREATED:20260321T012218Z
LAST-MODIFIED:20260321T025014Z
UID:10000540-1787680800-1787688000@thewillowsgolflounge.com
SUMMARY:Ladies Night at The Willows
DESCRIPTION:Join us every Tuesday from 6–8 PM for a relaxed\, welcoming night of golf\, wine\, and great company. Whether you’re brand new or looking to refine your game\, we have clubs available and courses suited for all skill levels. Sip and unwind with selections from Penns Woods Winery while you play—no pressure\, just fun.
URL:https://thewillowsgolflounge.com/event/ladies-night-at-the-willows/2026-08-25/
LOCATION:The Willows Golf Lounge\, 20 Liberty Blvd Suite 140\, Malvern\, PA\, 19355\, United States
CATEGORIES:Public Events,Weekly Events
ATTACH;FMTTYPE=image/webp:https://thewillowsgolflounge.com/wp-content/uploads/2026/03/LadiesNight.webp
END:VEVENT
BEGIN:VEVENT
DTSTART;TZID=America/New_York:20260831T190000
DTEND;TZID=America/New_York:20260831T220000
DTSTAMP:20260424T215624
CREATED:20260321T011956Z
LAST-MODIFIED:20260321T014054Z
UID:10000280-1788202800-1788213600@thewillowsgolflounge.com
SUMMARY:Industry Night at The Willows
DESCRIPTION:Join us from 7:00–10:30pm every Monday night for Industry Night—our way of giving back to those who keep things running. If you work in The Grove or the hospitality industry\, enjoy 20% off your round and unwind with a night of golf\, drinks\, and great company.
URL:https://thewillowsgolflounge.com/event/industry-night-at-the-willows/2026-08-31/
LOCATION:The Willows Golf Lounge\, 20 Liberty Blvd Suite 140\, Malvern\, PA\, 19355\, United States
CATEGORIES:Public Events,Weekly Events
ATTACH;FMTTYPE=image/webp:https://thewillowsgolflounge.com/wp-content/uploads/2026/03/IndustryNight.webp
END:VEVENT
END:VCALENDAR