BEGIN:VCALENDAR
VERSION:2.0
PRODID:-//The Willows Golf Lounge - ECPv6.15.18//NONSGML v1.0//EN
CALSCALE:GREGORIAN
METHOD:PUBLISH
X-WR-CALNAME:The Willows Golf Lounge
X-ORIGINAL-URL:https://thewillowsgolflounge.com
X-WR-CALDESC:Events for The Willows Golf Lounge
REFRESH-INTERVAL;VALUE=DURATION:PT1H
X-Robots-Tag:noindex
X-PUBLISHED-TTL:PT1H
BEGIN:VTIMEZONE
TZID:America/New_York
BEGIN:DAYLIGHT
TZOFFSETFROM:-0500
TZOFFSETTO:-0400
TZNAME:EDT
DTSTART:20250309T070000
END:DAYLIGHT
BEGIN:STANDARD
TZOFFSETFROM:-0400
TZOFFSETTO:-0500
TZNAME:EST
DTSTART:20251102T060000
END:STANDARD
BEGIN:DAYLIGHT
TZOFFSETFROM:-0500
TZOFFSETTO:-0400
TZNAME:EDT
DTSTART:20260308T070000
END:DAYLIGHT
BEGIN:STANDARD
TZOFFSETFROM:-0400
TZOFFSETTO:-0500
TZNAME:EST
DTSTART:20261101T060000
END:STANDARD
BEGIN:DAYLIGHT
TZOFFSETFROM:-0500
TZOFFSETTO:-0400
TZNAME:EDT
DTSTART:20270314T070000
END:DAYLIGHT
BEGIN:STANDARD
TZOFFSETFROM:-0400
TZOFFSETTO:-0500
TZNAME:EST
DTSTART:20271107T060000
END:STANDARD
END:VTIMEZONE
BEGIN:VEVENT
DTSTART;TZID=America/New_York:20260319T110000
DTEND;TZID=America/New_York:20260319T223000
DTSTAMP:20260424T105417
CREATED:20260317T224526Z
LAST-MODIFIED:20260317T224919Z
UID:10000006-1773918000-1773959400@thewillowsgolflounge.com
SUMMARY:March Madness Watch Party
DESCRIPTION:Catch every buzzer-beater and big upset at The Willows Golf Lounge’s March Madness Watch Party! Join us on Thursday\, March 19th and Friday\, March 20th starting at 11 AM for two full days of tournament action\, great food\, and even better vibes. \nReserve your bay and enjoy a FREE SlyFox pitcher of beer included with your 2-hour bay rental\, while you watch the games on big screens and take part in the excitement. Test your skills with closest-to-the-pin challenges\, and don’t miss out on raffles and giveaways happening both days. \nWhether you’re here for the games\, the golf\, or the cold drinks\, this is the perfect spot to experience March Madness. \n\nDownload the Event Flyer
URL:https://thewillowsgolflounge.com/event/march-madness-watch-party/
LOCATION:The Willows Golf Lounge\, 20 Liberty Blvd Suite 140\, Malvern\, PA\, 19355\, United States
CATEGORIES:Public Events
ATTACH;FMTTYPE=image/webp:https://thewillowsgolflounge.com/wp-content/uploads/2026/03/MarchMadness-Featured-Image.webp
END:VEVENT
BEGIN:VEVENT
DTSTART;TZID=America/New_York:20260320T110000
DTEND;TZID=America/New_York:20260320T230000
DTSTAMP:20260424T105417
CREATED:20260317T224801Z
LAST-MODIFIED:20260317T224905Z
UID:10000007-1774004400-1774047600@thewillowsgolflounge.com
SUMMARY:March Madness Watch Party
DESCRIPTION:Catch every buzzer-beater and big upset at The Willows Golf Lounge’s March Madness Watch Party! Join us on Thursday\, March 19th and Friday\, March 20th starting at 11 AM for two full days of tournament action\, great food\, and even better vibes. \nReserve your bay and enjoy a FREE SlyFox pitcher of beer included with your 2-hour bay rental\, while you watch the games on big screens and take part in the excitement. Test your skills with closest-to-the-pin challenges\, and don’t miss out on raffles and giveaways happening both days. \nWhether you’re here for the games\, the golf\, or the cold drinks\, this is the perfect spot to experience March Madness. \n\nDownload the Event Flyer
URL:https://thewillowsgolflounge.com/event/march-madness-watch-party-2/
LOCATION:The Willows Golf Lounge\, 20 Liberty Blvd Suite 140\, Malvern\, PA\, 19355\, United States
CATEGORIES:Public Events
ATTACH;FMTTYPE=image/webp:https://thewillowsgolflounge.com/wp-content/uploads/2026/03/MarchMadness-Featured-Image.webp
END:VEVENT
BEGIN:VEVENT
DTSTART;TZID=America/New_York:20260323T190000
DTEND;TZID=America/New_York:20260323T220000
DTSTAMP:20260424T105417
CREATED:20260321T011956Z
LAST-MODIFIED:20260321T014054Z
UID:10000257-1774292400-1774303200@thewillowsgolflounge.com
SUMMARY:Industry Night at The Willows
DESCRIPTION:Join us from 7:00–10:30pm every Monday night for Industry Night—our way of giving back to those who keep things running. If you work in The Grove or the hospitality industry\, enjoy 20% off your round and unwind with a night of golf\, drinks\, and great company.
URL:https://thewillowsgolflounge.com/event/industry-night-at-the-willows/2026-03-23/
LOCATION:The Willows Golf Lounge\, 20 Liberty Blvd Suite 140\, Malvern\, PA\, 19355\, United States
CATEGORIES:Public Events,Weekly Events
ATTACH;FMTTYPE=image/webp:https://thewillowsgolflounge.com/wp-content/uploads/2026/03/IndustryNight.webp
END:VEVENT
BEGIN:VEVENT
DTSTART;TZID=America/New_York:20260324T180000
DTEND;TZID=America/New_York:20260324T200000
DTSTAMP:20260424T105417
CREATED:20260321T012218Z
LAST-MODIFIED:20260321T025014Z
UID:10000518-1774375200-1774382400@thewillowsgolflounge.com
SUMMARY:Ladies Night at The Willows
DESCRIPTION:Join us every Tuesday from 6–8 PM for a relaxed\, welcoming night of golf\, wine\, and great company. Whether you’re brand new or looking to refine your game\, we have clubs available and courses suited for all skill levels. Sip and unwind with selections from Penns Woods Winery while you play—no pressure\, just fun.
URL:https://thewillowsgolflounge.com/event/ladies-night-at-the-willows/2026-03-24/
LOCATION:The Willows Golf Lounge\, 20 Liberty Blvd Suite 140\, Malvern\, PA\, 19355\, United States
CATEGORIES:Public Events,Weekly Events
ATTACH;FMTTYPE=image/webp:https://thewillowsgolflounge.com/wp-content/uploads/2026/03/LadiesNight.webp
END:VEVENT
BEGIN:VEVENT
DTSTART;TZID=America/New_York:20260330T090000
DTEND;TZID=America/New_York:20260403T160000
DTSTAMP:20260424T105417
CREATED:20260310T121823Z
LAST-MODIFIED:20260310T121947Z
UID:10000005-1774861200-1775232000@thewillowsgolflounge.com
SUMMARY:Spring Break Junior Golf Camp
DESCRIPTION:Give your young golfer an unforgettable spring break at The Willows Junior Golf Camp! Designed for kids ages 6–14\, this weeklong camp blends fun and skill-building in a welcoming\, engaging environment. Campers will spend their days learning golf fundamentals\, practicing swings\, and building confidence through hands-on instruction and games. \nThe camp runs March 30 – April 3 from 9am to 4pm at The Willows Golf Lounge in Malvern\, PA. The full-week registration is $550 per golfer\, with 10% sibling discounts available and daily rates offered for added flexibility. \nIt’s the perfect opportunity for young players to develop their skills\, make new friends\, and enjoy a week of golf-focused fun over spring break. \n  \n\n\nREGISTER TODAY!\n\n\n                \n                        \n                             \n							"*" indicates required fields \n                        \n                        LinkedInThis field is for validation purposes and should be left unchanged.Camper InformationCamper Full Name*\n                            \n                            \n                                                    \n                                                    First Name\n                                                \n                            \n                            \n                                                    \n                                                    Last Name\n                                                \n                            \n                        Preferred Name (if different)Date of Birth*Age at Time of Camp*\n								\n								6-10\n							\n								\n								11-14\n							School (Optional)Parent/Guardian InformationPrimary Parent / Guardian Full Name*\n                            \n                            \n                                                    \n                                                    First Name\n                                                \n                            \n                            \n                                                    \n                                                    Last Name\n                                                \n                            \n                        Primary Parent / Guardian Full Name*\n                            \n                            \n                                                    \n                                                    First Name\n                                                \n                            \n                            \n                                                    \n                                                    Last Name\n                                                \n                            \n                        Mobile Phone*Email Address*\n                            \n                        Secondary Emergency Contact Name*\n                            \n                            \n                                                    \n                                                    First Name\n                                                \n                            \n                            \n                                                    \n                                                    Last Name\n                                                \n                            \n                        Emergency Contact Phone Number*Camp DetailsRegister For:\n			\n					\n					Full Week ($550/camper)\n			\n			\n					\n					Daily Rate ($145/camper) (Select Amount of Days Upon Checkout)\n			Lunch Provided By:*\n			\n					\n					Parent\n			\n			\n					\n					Camp (+75/week)\n			Snack Notes / Dietary Restrictions*Golf & Experience LevelHas your child played golf before?*\n			\n					\n					Yes\n			\n			\n					\n					No\n			Experience LevelBeginnerIntermediateAdvancedDoes your child belong to a golf team or league?*\n			\n					\n					Yes\n			\n			\n					\n					No\n			Health & Safety InformationAny medical conditions we should be aware of?*\n			\n					\n					None\n			\n			\n					\n					Yes\n			Please Explain:*Please Explain:*Allergies (food\, environmental\, other)*\n			\n					\n					None\n			\n			\n					\n					Yes\n			Please List:*Does your child carry medication (e.g.\, inhaler\, EpiPen)?*\n			\n					\n					No\n			\n			\n					\n					Yes\n			Please Specify & Provide Instructions*Photo & Media ReleasePhoto & Media Release*\n			\n					\n					I grant permission for my child to be photographed or recorded during camp activities for promotional use by The Willows Golf Lounge (website\, social media\, marketing materials).\n			\n			\n					\n					I do NOT grant permission.\n			Liability & Participation AgreementI acknowledge that participation in golf and sports activities involves inherent risks. I release and hold harmless The Willows Golf Lounge\, its owners\, staff\, and affiliates from liability for injuries or damages except in cases of gross negligence.\nI confirm that my child is physically able to participate in camp activities.\nParent / Guardian Digital Signature*Date*Additional Notes (Optional)You will be redirected to a Square payment form upon submission.
URL:https://thewillowsgolflounge.com/event/spring-break-junior-golf-camp/
LOCATION:The Willows Golf Lounge\, 20 Liberty Blvd Suite 140\, Malvern\, PA\, 19355\, United States
CATEGORIES:Public Events
ATTACH;FMTTYPE=image/webp:https://thewillowsgolflounge.com/wp-content/uploads/2026/03/Spring-Break-Camp.webp
END:VEVENT
BEGIN:VEVENT
DTSTART;TZID=America/New_York:20260330T190000
DTEND;TZID=America/New_York:20260330T220000
DTSTAMP:20260424T105417
CREATED:20260321T011956Z
LAST-MODIFIED:20260321T014054Z
UID:10000258-1774897200-1774908000@thewillowsgolflounge.com
SUMMARY:Industry Night at The Willows
DESCRIPTION:Join us from 7:00–10:30pm every Monday night for Industry Night—our way of giving back to those who keep things running. If you work in The Grove or the hospitality industry\, enjoy 20% off your round and unwind with a night of golf\, drinks\, and great company.
URL:https://thewillowsgolflounge.com/event/industry-night-at-the-willows/2026-03-30/
LOCATION:The Willows Golf Lounge\, 20 Liberty Blvd Suite 140\, Malvern\, PA\, 19355\, United States
CATEGORIES:Public Events,Weekly Events
ATTACH;FMTTYPE=image/webp:https://thewillowsgolflounge.com/wp-content/uploads/2026/03/IndustryNight.webp
END:VEVENT
BEGIN:VEVENT
DTSTART;TZID=America/New_York:20260331T180000
DTEND;TZID=America/New_York:20260331T200000
DTSTAMP:20260424T105417
CREATED:20260321T012218Z
LAST-MODIFIED:20260321T025014Z
UID:10000519-1774980000-1774987200@thewillowsgolflounge.com
SUMMARY:Ladies Night at The Willows
DESCRIPTION:Join us every Tuesday from 6–8 PM for a relaxed\, welcoming night of golf\, wine\, and great company. Whether you’re brand new or looking to refine your game\, we have clubs available and courses suited for all skill levels. Sip and unwind with selections from Penns Woods Winery while you play—no pressure\, just fun.
URL:https://thewillowsgolflounge.com/event/ladies-night-at-the-willows/2026-03-31/
LOCATION:The Willows Golf Lounge\, 20 Liberty Blvd Suite 140\, Malvern\, PA\, 19355\, United States
CATEGORIES:Public Events,Weekly Events
ATTACH;FMTTYPE=image/webp:https://thewillowsgolflounge.com/wp-content/uploads/2026/03/LadiesNight.webp
END:VEVENT
END:VCALENDAR