BEGIN:VCALENDAR
VERSION:2.0
PRODID:-//The Willows Golf Lounge - ECPv6.15.18//NONSGML v1.0//EN
CALSCALE:GREGORIAN
METHOD:PUBLISH
X-WR-CALNAME:The Willows Golf Lounge
X-ORIGINAL-URL:https://thewillowsgolflounge.com
X-WR-CALDESC:Events for The Willows Golf Lounge
REFRESH-INTERVAL;VALUE=DURATION:PT1H
X-Robots-Tag:noindex
X-PUBLISHED-TTL:PT1H
BEGIN:VTIMEZONE
TZID:America/New_York
BEGIN:DAYLIGHT
TZOFFSETFROM:-0500
TZOFFSETTO:-0400
TZNAME:EDT
DTSTART:20250309T070000
END:DAYLIGHT
BEGIN:STANDARD
TZOFFSETFROM:-0400
TZOFFSETTO:-0500
TZNAME:EST
DTSTART:20251102T060000
END:STANDARD
BEGIN:DAYLIGHT
TZOFFSETFROM:-0500
TZOFFSETTO:-0400
TZNAME:EDT
DTSTART:20260308T070000
END:DAYLIGHT
BEGIN:STANDARD
TZOFFSETFROM:-0400
TZOFFSETTO:-0500
TZNAME:EST
DTSTART:20261101T060000
END:STANDARD
BEGIN:DAYLIGHT
TZOFFSETFROM:-0500
TZOFFSETTO:-0400
TZNAME:EDT
DTSTART:20270314T070000
END:DAYLIGHT
BEGIN:STANDARD
TZOFFSETFROM:-0400
TZOFFSETTO:-0500
TZNAME:EST
DTSTART:20271107T060000
END:STANDARD
END:VTIMEZONE
BEGIN:VEVENT
DTSTART;TZID=America/New_York:20260209T190000
DTEND;TZID=America/New_York:20260209T213000
DTSTAMP:20260424T220823
CREATED:20260125T220958Z
LAST-MODIFIED:20260125T233838Z
UID:10000003-1770663600-1770672600@thewillowsgolflounge.com
SUMMARY:Twosome Scramble League Starts February 9th
DESCRIPTION:Our Twosome Scramble League is designed for golfers of all genders looking for competitive play in a relaxed\, premium environment. Adults 21 and over only! \n$375 per Player | 8-Week League\n($750 per two-person team) \nMondays | 7:00 PM – 9:30 PM\nSpots are limited and assigned once registration is complete. Registration closes on February 7th! Leagues starts on February 9th! \nRegister Today!
URL:https://thewillowsgolflounge.com/event/twosome-scramble-league-starts-february-9th/
LOCATION:The Willows Golf Lounge\, 20 Liberty Blvd Suite 140\, Malvern\, PA\, 19355\, United States
CATEGORIES:Leagues
ATTACH;FMTTYPE=image/webp:https://thewillowsgolflounge.com/wp-content/uploads/2026/01/TwosomeScrambleLeague-Promo.webp
END:VEVENT
END:VCALENDAR