BEGIN:VCALENDAR
VERSION:2.0
PRODID:-//The Willows Golf Lounge - ECPv6.15.18//NONSGML v1.0//EN
CALSCALE:GREGORIAN
METHOD:PUBLISH
X-WR-CALNAME:The Willows Golf Lounge
X-ORIGINAL-URL:https://thewillowsgolflounge.com
X-WR-CALDESC:Events for The Willows Golf Lounge
REFRESH-INTERVAL;VALUE=DURATION:PT1H
X-Robots-Tag:noindex
X-PUBLISHED-TTL:PT1H
BEGIN:VTIMEZONE
TZID:America/New_York
BEGIN:DAYLIGHT
TZOFFSETFROM:-0500
TZOFFSETTO:-0400
TZNAME:EDT
DTSTART:20250309T070000
END:DAYLIGHT
BEGIN:STANDARD
TZOFFSETFROM:-0400
TZOFFSETTO:-0500
TZNAME:EST
DTSTART:20251102T060000
END:STANDARD
BEGIN:DAYLIGHT
TZOFFSETFROM:-0500
TZOFFSETTO:-0400
TZNAME:EDT
DTSTART:20260308T070000
END:DAYLIGHT
BEGIN:STANDARD
TZOFFSETFROM:-0400
TZOFFSETTO:-0500
TZNAME:EST
DTSTART:20261101T060000
END:STANDARD
BEGIN:DAYLIGHT
TZOFFSETFROM:-0500
TZOFFSETTO:-0400
TZNAME:EDT
DTSTART:20270314T070000
END:DAYLIGHT
BEGIN:STANDARD
TZOFFSETFROM:-0400
TZOFFSETTO:-0500
TZNAME:EST
DTSTART:20271107T060000
END:STANDARD
END:VTIMEZONE
BEGIN:VEVENT
DTSTART;TZID=America/New_York:20260414T171500
DTEND;TZID=America/New_York:20260414T183000
DTSTAMP:20260424T105516
CREATED:20260319T030402Z
LAST-MODIFIED:20260401T235459Z
UID:10000014-1776186900-1776191400@thewillowsgolflounge.com
SUMMARY:After School Golf Academy
DESCRIPTION:Keep the momentum going after school with our After School Golf Academy\, running from the week of April 6th through June 11th. These engaging clinics\, held 5:15–6:30 PM\, give young golfers the chance to build skills\, gain confidence\, and enjoy the game in a fun\, supportive environment. \nApril 6th through June 11th\n5:15 – 6:30PM\nCost is $60 per session or $200 for a month booking\nOnly six spots per evening\nCancellations must happen 24 hours in advance or will be charged  \nWeekly Structure\nMonday – Ages 8–11\nTuesday- Ages 11–15\nWednesday- Ages 11–15 (2nd group)\nThursday- Ages 15–18 \nMust call The Willows Golf Lounge at 610-295-8196 to reserve a spot for your child! 
URL:https://thewillowsgolflounge.com/event/after-school-golf-academy-4/2026-04-14/
LOCATION:The Willows Golf Lounge\, 20 Liberty Blvd Suite 140\, Malvern\, PA\, 19355\, United States
CATEGORIES:Educational Kids Events,Public Events
ATTACH;FMTTYPE=image/webp:https://thewillowsgolflounge.com/wp-content/uploads/2026/03/AfterSchoolGolfAcademy.webp
END:VEVENT
BEGIN:VEVENT
DTSTART;TZID=America/New_York:20260414T180000
DTEND;TZID=America/New_York:20260414T200000
DTSTAMP:20260424T105516
CREATED:20260321T012218Z
LAST-MODIFIED:20260321T025014Z
UID:10000521-1776189600-1776196800@thewillowsgolflounge.com
SUMMARY:Ladies Night at The Willows
DESCRIPTION:Join us every Tuesday from 6–8 PM for a relaxed\, welcoming night of golf\, wine\, and great company. Whether you’re brand new or looking to refine your game\, we have clubs available and courses suited for all skill levels. Sip and unwind with selections from Penns Woods Winery while you play—no pressure\, just fun.
URL:https://thewillowsgolflounge.com/event/ladies-night-at-the-willows/2026-04-14/
LOCATION:The Willows Golf Lounge\, 20 Liberty Blvd Suite 140\, Malvern\, PA\, 19355\, United States
CATEGORIES:Public Events,Weekly Events
ATTACH;FMTTYPE=image/webp:https://thewillowsgolflounge.com/wp-content/uploads/2026/03/LadiesNight.webp
END:VEVENT
END:VCALENDAR